BEGIN:VCALENDAR
VERSION:2.0
PRODID:-//First Presbyterian Church of Griffin - ECPv6.15.20//NONSGML v1.0//EN
CALSCALE:GREGORIAN
METHOD:PUBLISH
X-WR-CALNAME:First Presbyterian Church of Griffin
X-ORIGINAL-URL:https://fpcgriffin.org
X-WR-CALDESC:Events for First Presbyterian Church of Griffin
REFRESH-INTERVAL;VALUE=DURATION:PT1H
X-Robots-Tag:noindex
X-PUBLISHED-TTL:PT1H
BEGIN:VTIMEZONE
TZID:America/New_York
BEGIN:DAYLIGHT
TZOFFSETFROM:-0500
TZOFFSETTO:-0400
TZNAME:EDT
DTSTART:20250309T070000
END:DAYLIGHT
BEGIN:STANDARD
TZOFFSETFROM:-0400
TZOFFSETTO:-0500
TZNAME:EST
DTSTART:20251102T060000
END:STANDARD
BEGIN:DAYLIGHT
TZOFFSETFROM:-0500
TZOFFSETTO:-0400
TZNAME:EDT
DTSTART:20260308T070000
END:DAYLIGHT
BEGIN:STANDARD
TZOFFSETFROM:-0400
TZOFFSETTO:-0500
TZNAME:EST
DTSTART:20261101T060000
END:STANDARD
BEGIN:DAYLIGHT
TZOFFSETFROM:-0500
TZOFFSETTO:-0400
TZNAME:EDT
DTSTART:20270314T070000
END:DAYLIGHT
BEGIN:STANDARD
TZOFFSETFROM:-0400
TZOFFSETTO:-0500
TZNAME:EST
DTSTART:20271107T060000
END:STANDARD
END:VTIMEZONE
BEGIN:VEVENT
DTSTART;TZID=America/New_York:20260520T190000
DTEND;TZID=America/New_York:20260520T200000
DTSTAMP:20260421T054806
CREATED:20260420T212851Z
LAST-MODIFIED:20260420T212851Z
UID:10002616-1779303600-1779307200@fpcgriffin.org
SUMMARY:Men’s Bible Study
DESCRIPTION:
URL:https://fpcgriffin.org/event/mens-bible-study-10/
LOCATION:Piedmont Brewery 129 S Sixth St\, Griffin\, GA\, United States
GEO:33.265854;-84.289552
END:VEVENT
BEGIN:VEVENT
DTSTART;TZID=America/New_York:20260520T173000
DTEND;TZID=America/New_York:20260520T183000
DTSTAMP:20260421T054806
CREATED:20260413T194623Z
LAST-MODIFIED:20260420T212849Z
UID:10002590-1779298200-1779301800@fpcgriffin.org
SUMMARY:Choir Practice
DESCRIPTION:
URL:https://fpcgriffin.org/event/choir-practice-6/
END:VEVENT
BEGIN:VEVENT
DTSTART;TZID=America/New_York:20260517T090000
DTEND;TZID=America/New_York:20260517T100000
DTSTAMP:20260421T054806
CREATED:20260413T194621Z
LAST-MODIFIED:20260420T212847Z
UID:10002589-1779008400-1779012000@fpcgriffin.org
SUMMARY:Elder Potluck?
DESCRIPTION:
URL:https://fpcgriffin.org/event/elder-potluck/
END:VEVENT
BEGIN:VEVENT
DTSTART;TZID=America/New_York:20260514T080000
DTEND;TZID=America/New_York:20260514T090000
DTSTAMP:20260421T054806
CREATED:20260413T194619Z
LAST-MODIFIED:20260420T212843Z
UID:10002587-1778745600-1778749200@fpcgriffin.org
SUMMARY:Men’s Bible Study
DESCRIPTION:
URL:https://fpcgriffin.org/event/mens-bible-study-7/
LOCATION:Gritz Family Restaurant 105 S Hill St\, Griffin\, GA\, United States
GEO:33.265854;-84.289552
END:VEVENT
BEGIN:VEVENT
DTSTART;TZID=America/New_York:20260513T190000
DTEND;TZID=America/New_York:20260513T200000
DTSTAMP:20260421T054806
CREATED:20260420T212838Z
LAST-MODIFIED:20260420T212838Z
UID:10002615-1778698800-1778702400@fpcgriffin.org
SUMMARY:Men’s Bible Study
DESCRIPTION:
URL:https://fpcgriffin.org/event/mens-bible-study-9/
LOCATION:Piedmont Brewery 129 S Sixth St\, Griffin\, GA\, United States
GEO:33.265854;-84.289552
END:VEVENT
BEGIN:VEVENT
DTSTART;TZID=America/New_York:20260513T180000
DTEND;TZID=America/New_York:20260513T200000
DTSTAMP:20260421T054806
CREATED:20260413T194616Z
LAST-MODIFIED:20260420T212836Z
UID:10002586-1778695200-1778702400@fpcgriffin.org
SUMMARY:Kid's Ministry
DESCRIPTION:
URL:https://fpcgriffin.org/event/kids-ministry-5/
LOCATION:First Presbyterian Church 1349 Macon Rd\, Griffin\, GA\, United States
GEO:33.240386;-84.273402
END:VEVENT
BEGIN:VEVENT
DTSTART;TZID=America/New_York:20260513T180000
DTEND;TZID=America/New_York:20260513T200000
DTSTAMP:20260421T054806
CREATED:20260413T194612Z
LAST-MODIFIED:20260420T212841Z
UID:10002584-1778695200-1778702400@fpcgriffin.org
SUMMARY:Women's Bible Study
DESCRIPTION:
URL:https://fpcgriffin.org/event/womens-bible-study-7/
LOCATION:First Presbyterian Church 1349 Macon Rd\, Griffin\, GA\, United States
GEO:33.240386;-84.273402
END:VEVENT
BEGIN:VEVENT
DTSTART;TZID=America/New_York:20260513T173000
DTEND;TZID=America/New_York:20260513T183000
DTSTAMP:20260421T054806
CREATED:20260413T194614Z
LAST-MODIFIED:20260420T212846Z
UID:10002585-1778693400-1778697000@fpcgriffin.org
SUMMARY:Choir Practice
DESCRIPTION:
URL:https://fpcgriffin.org/event/choir-practice-5/
END:VEVENT
BEGIN:VEVENT
DTSTART;TZID=America/New_York:20260512T083000
DTEND;TZID=America/New_York:20260512T093000
DTSTAMP:20260421T054806
CREATED:20260420T212833Z
LAST-MODIFIED:20260420T212833Z
UID:10002614-1778574600-1778578200@fpcgriffin.org
SUMMARY:Back the Blue
DESCRIPTION:
URL:https://fpcgriffin.org/event/back-the-blue/
END:VEVENT
BEGIN:VEVENT
DTSTART;TZID=America/New_York:20260512T083000
DTEND;TZID=America/New_York:20260512T093000
DTSTAMP:20260421T054806
CREATED:20260413T194610Z
LAST-MODIFIED:20260413T194610Z
UID:10002583-1778574600-1778578200@fpcgriffin.org
SUMMARY:Back the Blue
DESCRIPTION:
URL:https://fpcgriffin.org/event/back-the-blue-3/
END:VEVENT
BEGIN:VEVENT
DTSTART;TZID=America/New_York:20260511T113000
DTEND;TZID=America/New_York:20260511T123000
DTSTAMP:20260421T054806
CREATED:20260413T194608Z
LAST-MODIFIED:20260420T212832Z
UID:10002582-1778499000-1778502600@fpcgriffin.org
SUMMARY:Mission and Outreach
DESCRIPTION:
URL:https://fpcgriffin.org/event/mission-and-outreach/
END:VEVENT
BEGIN:VEVENT
DTSTART;VALUE=DATE:20260511
DTEND;VALUE=DATE:20260516
DTSTAMP:20260421T054806
CREATED:20260413T194620Z
LAST-MODIFIED:20260420T212845Z
UID:10002588-1778457600-1778889599@fpcgriffin.org
SUMMARY:Teacher Appreciation Week
DESCRIPTION:
URL:https://fpcgriffin.org/event/teacher-appreciation-week/
END:VEVENT
BEGIN:VEVENT
DTSTART;TZID=America/New_York:20260507T080000
DTEND;TZID=America/New_York:20260507T090000
DTSTAMP:20260421T054806
CREATED:20260413T194607Z
LAST-MODIFIED:20260420T212830Z
UID:10002581-1778140800-1778144400@fpcgriffin.org
SUMMARY:Men’s Bible Study
DESCRIPTION:
URL:https://fpcgriffin.org/event/mens-bible-study-6/
LOCATION:Gritz Family Restaurant 105 S Hill St\, Griffin\, GA\, United States
GEO:33.265854;-84.289552
END:VEVENT
BEGIN:VEVENT
DTSTART;TZID=America/New_York:20260506T190000
DTEND;TZID=America/New_York:20260506T200000
DTSTAMP:20260421T054806
CREATED:20260420T212825Z
LAST-MODIFIED:20260420T212825Z
UID:10002613-1778094000-1778097600@fpcgriffin.org
SUMMARY:Men’s Bible Study
DESCRIPTION:
URL:https://fpcgriffin.org/event/mens-bible-study-8/
LOCATION:Piedmont Brewery 129 S Sixth St\, Griffin\, GA\, United States
GEO:33.265854;-84.289552
END:VEVENT
BEGIN:VEVENT
DTSTART;TZID=America/New_York:20260506T180000
DTEND;TZID=America/New_York:20260506T200000
DTSTAMP:20260421T054806
CREATED:20260413T194604Z
LAST-MODIFIED:20260420T212823Z
UID:10002580-1778090400-1778097600@fpcgriffin.org
SUMMARY:Kid's Ministry
DESCRIPTION:
URL:https://fpcgriffin.org/event/kids-ministry-4/
LOCATION:First Presbyterian Church 1349 Macon Rd\, Griffin\, GA\, United States
GEO:33.240386;-84.273402
END:VEVENT
BEGIN:VEVENT
DTSTART;TZID=America/New_York:20260506T180000
DTEND;TZID=America/New_York:20260506T200000
DTSTAMP:20260421T054806
CREATED:20260413T194600Z
LAST-MODIFIED:20260420T212828Z
UID:10002578-1778090400-1778097600@fpcgriffin.org
SUMMARY:Women's Bible Study
DESCRIPTION:
URL:https://fpcgriffin.org/event/womens-bible-study-6/
LOCATION:First Presbyterian Church 1349 Macon Rd\, Griffin\, GA\, United States
GEO:33.240386;-84.273402
END:VEVENT
BEGIN:VEVENT
DTSTART;TZID=America/New_York:20260506T173000
DTEND;TZID=America/New_York:20260506T183000
DTSTAMP:20260421T054806
CREATED:20260413T194601Z
LAST-MODIFIED:20260420T212821Z
UID:10002579-1778088600-1778092200@fpcgriffin.org
SUMMARY:Choir Practice
DESCRIPTION:
URL:https://fpcgriffin.org/event/choir-practice-4/
END:VEVENT
BEGIN:VEVENT
DTSTART;TZID=America/New_York:20260504T183000
DTEND;TZID=America/New_York:20260504T193000
DTSTAMP:20260421T054806
CREATED:20260413T194557Z
LAST-MODIFIED:20260420T212820Z
UID:10002577-1777919400-1777923000@fpcgriffin.org
SUMMARY:Align Yoga
DESCRIPTION:
URL:https://fpcgriffin.org/event/align-yoga-3/
LOCATION:Activities Building
END:VEVENT
BEGIN:VEVENT
DTSTART;TZID=America/New_York:20260504T103000
DTEND;TZID=America/New_York:20260504T113000
DTSTAMP:20260421T054806
CREATED:20260413T194555Z
LAST-MODIFIED:20260420T212817Z
UID:10002576-1777890600-1777894200@fpcgriffin.org
SUMMARY:Congregational Life Meeting
DESCRIPTION:
URL:https://fpcgriffin.org/event/congregational-life-meeting/
END:VEVENT
BEGIN:VEVENT
DTSTART;TZID=America/New_York:20260503T080000
DTEND;TZID=America/New_York:20260503T090000
DTSTAMP:20260421T054806
CREATED:20260413T194553Z
LAST-MODIFIED:20260420T212816Z
UID:10002575-1777795200-1777798800@fpcgriffin.org
SUMMARY:Session Spiritual Growth Meeting
DESCRIPTION:
URL:https://fpcgriffin.org/event/session-spiritual-growth-meeting/
END:VEVENT
BEGIN:VEVENT
DTSTART;TZID=America/New_York:20260430T080000
DTEND;TZID=America/New_York:20260430T090000
DTSTAMP:20260421T054806
CREATED:20260413T194552Z
LAST-MODIFIED:20260420T212815Z
UID:10002574-1777536000-1777539600@fpcgriffin.org
SUMMARY:Men’s Bible Study
DESCRIPTION:
URL:https://fpcgriffin.org/event/mens-bible-study-5/
LOCATION:Gritz Family Restaurant 105 S Hill St\, Griffin\, GA\, United States
GEO:33.265854;-84.289552
END:VEVENT
BEGIN:VEVENT
DTSTART;TZID=America/New_York:20260429T190000
DTEND;TZID=America/New_York:20260429T200000
DTSTAMP:20260421T054806
CREATED:20260420T212812Z
LAST-MODIFIED:20260420T212812Z
UID:10002612-1777489200-1777492800@fpcgriffin.org
SUMMARY:Men’s Bible Study
DESCRIPTION:
URL:https://fpcgriffin.org/event/mens-bible-study-2/
LOCATION:Piedmont Brewery 129 S Sixth St\, Griffin\, GA\, United States
GEO:33.265854;-84.289552
END:VEVENT
BEGIN:VEVENT
DTSTART;TZID=America/New_York:20260429T180000
DTEND;TZID=America/New_York:20260429T200000
DTSTAMP:20260421T054806
CREATED:20260413T194549Z
LAST-MODIFIED:20260420T212809Z
UID:10002573-1777485600-1777492800@fpcgriffin.org
SUMMARY:Women's Bible Study
DESCRIPTION:
URL:https://fpcgriffin.org/event/womens-bible-study-5/
LOCATION:First Presbyterian Church 1349 Macon Rd\, Griffin\, GA\, United States
GEO:33.240386;-84.273402
END:VEVENT
BEGIN:VEVENT
DTSTART;TZID=America/New_York:20260429T180000
DTEND;TZID=America/New_York:20260429T200000
DTSTAMP:20260421T054806
CREATED:20260413T194546Z
LAST-MODIFIED:20260420T212807Z
UID:10002571-1777485600-1777492800@fpcgriffin.org
SUMMARY:Kid's Ministry
DESCRIPTION:
URL:https://fpcgriffin.org/event/kids-ministry-3/
LOCATION:First Presbyterian Church 1349 Macon Rd\, Griffin\, GA\, United States
GEO:33.240386;-84.273402
END:VEVENT
BEGIN:VEVENT
DTSTART;TZID=America/New_York:20260429T173000
DTEND;TZID=America/New_York:20260429T183000
DTSTAMP:20260421T054806
CREATED:20260413T194547Z
LAST-MODIFIED:20260420T212804Z
UID:10002572-1777483800-1777487400@fpcgriffin.org
SUMMARY:Choir Practice
DESCRIPTION:
URL:https://fpcgriffin.org/event/choir-practice-3/
END:VEVENT
BEGIN:VEVENT
DTSTART;TZID=America/New_York:20260425T090000
DTEND;TZID=America/New_York:20260425T120000
DTSTAMP:20260421T054806
CREATED:20260413T194543Z
LAST-MODIFIED:20260420T212803Z
UID:10002570-1777107600-1777118400@fpcgriffin.org
SUMMARY:5 Loaves & Fish
DESCRIPTION:
URL:https://fpcgriffin.org/event/5-loaves-fish/
END:VEVENT
BEGIN:VEVENT
DTSTART;TZID=America/New_York:20260423T080000
DTEND;TZID=America/New_York:20260423T090000
DTSTAMP:20260421T054806
CREATED:20260413T194541Z
LAST-MODIFIED:20260420T212802Z
UID:10002569-1776931200-1776934800@fpcgriffin.org
SUMMARY:Men’s Bible Study
DESCRIPTION:
URL:https://fpcgriffin.org/event/mens-bible-study-4/
LOCATION:Gritz Family Restaurant 105 S Hill St\, Griffin\, GA\, United States
GEO:33.265854;-84.289552
END:VEVENT
BEGIN:VEVENT
DTSTART;TZID=America/New_York:20260422T190000
DTEND;TZID=America/New_York:20260422T200000
DTSTAMP:20260421T054806
CREATED:20260420T212753Z
LAST-MODIFIED:20260420T212753Z
UID:10002611-1776884400-1776888000@fpcgriffin.org
SUMMARY:Men’s Bible Study
DESCRIPTION:
URL:https://fpcgriffin.org/event/mens-bible-study/
LOCATION:Piedmont Brewery 129 S Sixth St\, Griffin\, GA\, United States
GEO:33.265854;-84.289552
END:VEVENT
BEGIN:VEVENT
DTSTART;TZID=America/New_York:20260422T180000
DTEND;TZID=America/New_York:20260422T200000
DTSTAMP:20260421T054806
CREATED:20260413T194537Z
LAST-MODIFIED:20260420T212758Z
UID:10002567-1776880800-1776888000@fpcgriffin.org
SUMMARY:Women's Bible Study
DESCRIPTION:
URL:https://fpcgriffin.org/event/womens-bible-study-4/
LOCATION:First Presbyterian Church 1349 Macon Rd\, Griffin\, GA\, United States
GEO:33.240386;-84.273402
END:VEVENT
BEGIN:VEVENT
DTSTART;TZID=America/New_York:20260422T180000
DTEND;TZID=America/New_York:20260422T200000
DTSTAMP:20260421T054806
CREATED:20260413T194534Z
LAST-MODIFIED:20260420T212756Z
UID:10002566-1776880800-1776888000@fpcgriffin.org
SUMMARY:Kid's Ministry
DESCRIPTION:
URL:https://fpcgriffin.org/event/kids-ministry-2/
LOCATION:First Presbyterian Church 1349 Macon Rd\, Griffin\, GA\, United States
GEO:33.240386;-84.273402
END:VEVENT
END:VCALENDAR